BEGIN:VCALENDAR
VERSION:2.0
PRODID:-//AudioTheme 2.3.8
BEGIN:VEVENT
UID:urn:uuid:9f324ca4-ebf8-4876-b622-882f04e845b0
URL:https://mitchmcvicker.com/concerts/gig-2145/
DTSTART;VALUE=DATE:20080423
SUMMARY:Cornerstone Christian Church
LOCATION:Cornerstone Christian Church\, 3600 S. Banker Street\, Effingham\, IL
END:VEVENT
END:VCALENDAR
