BEGIN:VCALENDAR
VERSION:2.0
PRODID:-//AudioTheme 2.3.8
BEGIN:VEVENT
UID:urn:uuid:2b8a7dfe-7996-446f-99e0-6ef2cf5136db
URL:https://mitchmcvicker.com/concerts/gig-2143/
DTSTART;VALUE=DATE:20080420
SUMMARY:Church of Christ at Milan
LOCATION:Church of Christ at Milan\, Milan\, IN
END:VEVENT
END:VCALENDAR
