BEGIN:VCALENDAR
VERSION:2.0
PRODID:-//AudioTheme 2.3.8
BEGIN:VEVENT
UID:urn:uuid:fee5c568-aa54-4af2-b096-21ec34163967
URL:https://mitchmcvicker.com/concerts/gig-2141/
DTSTART;VALUE=DATE:20080419
SUMMARY:Tyson United Methodist Church
LOCATION:Tyson United Methodist Church\, Versailles\, IN
END:VEVENT
END:VCALENDAR
