BEGIN:VCALENDAR
VERSION:2.0
PRODID:-//AudioTheme 2.3.8
BEGIN:VEVENT
UID:urn:uuid:ac576e7e-9df1-4250-82f4-1733a9901018
URL:https://mitchmcvicker.com/concerts/gig-2139/
DTSTART;VALUE=DATE:20080417
SUMMARY:Community Church of Mooresville
LOCATION:Community Church of Mooresville\, Mooresville\, IN
END:VEVENT
END:VCALENDAR
