BEGIN:VCALENDAR
VERSION:2.0
PRODID:-//AudioTheme 2.3.8
BEGIN:VEVENT
UID:urn:uuid:a626c216-ba69-41a9-8258-c95cf0b3c151
URL:https://mitchmcvicker.com/concerts/gig-2138/
DTSTART;VALUE=DATE:20080416
SUMMARY:Parkview Church of the Nazarene
LOCATION:Parkview Church of the Nazarene\, Nashville\, IN
END:VEVENT
END:VCALENDAR
