BEGIN:VCALENDAR
VERSION:2.0
PRODID:-//AudioTheme 2.3.8
BEGIN:VEVENT
UID:urn:uuid:fced9839-dbbe-4b5f-8587-00818a9c3408
URL:https://mitchmcvicker.com/concerts/gig-2137/
DTSTART;VALUE=DATE:20080406
SUMMARY:Community of Life Church
LOCATION:Community of Life Church\, Oregon\, WI
END:VEVENT
END:VCALENDAR
