BEGIN:VCALENDAR
VERSION:2.0
PRODID:-//AudioTheme 2.3.8
BEGIN:VEVENT
UID:urn:uuid:b0aa57c2-e4c4-438d-ab87-fb21b5900d87
URL:https://mitchmcvicker.com/concerts/gig-2135/
DTSTART;VALUE=DATE:20080405
SUMMARY:Park Theatre
LOCATION:Park Theatre\, North Vernon\, IN
END:VEVENT
END:VCALENDAR
