BEGIN:VCALENDAR
VERSION:2.0
PRODID:-//AudioTheme 2.3.8
BEGIN:VEVENT
UID:urn:uuid:3afe08dc-bcd5-429b-9be5-2eddb56fead5
URL:https://mitchmcvicker.com/concerts/gig-2134/
DTSTART;VALUE=DATE:20080404
SUMMARY:Westchester United Methodist Church
LOCATION:Westchester United Methodist Church\, Portland\, IN
END:VEVENT
END:VCALENDAR
