BEGIN:VCALENDAR
VERSION:2.0
PRODID:-//AudioTheme 2.3.8
BEGIN:VEVENT
UID:urn:uuid:b7a19511-f21d-4de1-b287-6fd172d2e774
URL:https://mitchmcvicker.com/concerts/gig-2133/
DTSTART;VALUE=DATE:20080403
SUMMARY:Peoria Church of the Brethren
LOCATION:Peoria Church of the Brethren\, Peoria\, IL
END:VEVENT
END:VCALENDAR
