BEGIN:VCALENDAR
VERSION:2.0
PRODID:-//AudioTheme 2.3.8
BEGIN:VEVENT
UID:urn:uuid:1ddb10fb-ee8c-451e-b3ad-0d01caf879c8
URL:https://mitchmcvicker.com/concerts/gig-2132/
DTSTART;VALUE=DATE:20080330
SUMMARY:Hillcrest Baptist Church
LOCATION:Hillcrest Baptist Church\, Sioux Falls\, SD
END:VEVENT
END:VCALENDAR
