BEGIN:VCALENDAR
VERSION:2.0
PRODID:-//AudioTheme 2.3.8
BEGIN:VEVENT
UID:urn:uuid:fa57f189-480a-4fd6-96b6-f7ce29b11999
URL:https://mitchmcvicker.com/concerts/gig-2131/
DTSTART;VALUE=DATE:20080402
SUMMARY:First Friends Church
LOCATION:First Friends Church\, Marshalltown\, IA
END:VEVENT
END:VCALENDAR
