BEGIN:VCALENDAR
VERSION:2.0
PRODID:-//AudioTheme 2.3.8
BEGIN:VEVENT
UID:urn:uuid:82621ed6-5115-4f2e-b0eb-fc2fa2d16b7d
URL:https://mitchmcvicker.com/concerts/gig-2129/
DTSTART;VALUE=DATE:20080329
SUMMARY:First Baptist Church
LOCATION:First Baptist Church\, Worthington\, MN
END:VEVENT
END:VCALENDAR
