BEGIN:VCALENDAR
VERSION:2.0
PRODID:-//AudioTheme 2.3.8
BEGIN:VEVENT
UID:urn:uuid:cd4d5421-a770-41a1-a72d-8f21f6805f06
URL:https://mitchmcvicker.com/concerts/gig-2127/
DTSTART;VALUE=DATE:20080328
SUMMARY:North Central College
LOCATION:North Central College\, Naperville\, IL
END:VEVENT
END:VCALENDAR
