BEGIN:VCALENDAR
VERSION:2.0
PRODID:-//AudioTheme 2.3.8
BEGIN:VEVENT
UID:urn:uuid:75d93e2a-13fc-4336-9acd-2f4899cf335c
URL:https://mitchmcvicker.com/concerts/gig-2125/
DTSTART;VALUE=DATE:20080327
SUMMARY:St. Robert Bellarmine Newman Center
LOCATION:St. Robert Bellarmine Newman Center\, Normal\, IL
END:VEVENT
END:VCALENDAR
