BEGIN:VCALENDAR
VERSION:2.0
PRODID:-//AudioTheme 2.3.8
BEGIN:VEVENT
UID:urn:uuid:506fd198-7b5c-4e28-8145-d04f55f3619c
URL:https://mitchmcvicker.com/concerts/gig-2124/
DTSTART;VALUE=DATE:20080316
SUMMARY:Lutheran Church of the Master
LOCATION:Lutheran Church of the Master\, 580 Kuhn Rd.\, Carol Stream\, IL\, USA
END:VEVENT
END:VCALENDAR
