BEGIN:VCALENDAR
VERSION:2.0
PRODID:-//AudioTheme 2.3.8
BEGIN:VEVENT
UID:urn:uuid:b00eb36d-6748-4a2e-8512-6f6dc767dc78
URL:https://mitchmcvicker.com/concerts/gig-2122/
DTSTART;VALUE=DATE:20080315
SUMMARY:Community Bible Church
LOCATION:Community Bible Church\, Washington\, IL
END:VEVENT
END:VCALENDAR
