BEGIN:VCALENDAR
VERSION:2.0
PRODID:-//AudioTheme 2.3.8
BEGIN:VEVENT
UID:urn:uuid:112d6119-92b3-4a20-b5ea-54b19057c0b0
URL:https://mitchmcvicker.com/concerts/gig-2121/
DTSTART;VALUE=DATE:20080314
SUMMARY:Altamont Christian Church
LOCATION:Altamont Christian Church\, Altamont\, IL
END:VEVENT
END:VCALENDAR
