BEGIN:VCALENDAR
VERSION:2.0
PRODID:-//AudioTheme 2.3.8
BEGIN:VEVENT
UID:urn:uuid:a80349bc-bace-4b54-9e57-397f8fe4b35a
URL:https://mitchmcvicker.com/concerts/gig-2120/
DTSTART;VALUE=DATE:20080210
SUMMARY:Holton Christian Church - Church in the Park
LOCATION:Holton Christian Church - Church in the Park\, Holton Community Park 6805 W. Versailles St.\, Holton\, IN
END:VEVENT
END:VCALENDAR
