BEGIN:VCALENDAR
VERSION:2.0
PRODID:-//AudioTheme 2.3.8
BEGIN:VEVENT
UID:urn:uuid:f3272d4e-58c3-45ea-88d8-f304801e268d
URL:https://mitchmcvicker.com/concerts/gig-2118/
DTSTART;VALUE=DATE:20080208
SUMMARY:Camp Illiana College Ministry Retreat
LOCATION:Camp Illiana College Ministry Retreat\, Washington\, IN
END:VEVENT
END:VCALENDAR
