BEGIN:VCALENDAR
VERSION:2.0
PRODID:-//AudioTheme 2.3.8
BEGIN:VEVENT
UID:urn:uuid:47e14ef9-ff0f-477d-8a15-862490224d07
URL:https://mitchmcvicker.com/concerts/gig-2109/
DTSTART;VALUE=DATE:20091122
SUMMARY:Cornerstone Christian Church
LOCATION:Cornerstone Christian Church\, Duncannon\, PA
END:VEVENT
END:VCALENDAR
