BEGIN:VCALENDAR
VERSION:2.0
PRODID:-//AudioTheme 2.3.8
BEGIN:VEVENT
UID:urn:uuid:7995ec67-2efb-44d5-ba89-f467a904e7d5
URL:https://mitchmcvicker.com/concerts/gig-2107/
DTSTART;VALUE=DATE:20091121
SUMMARY:Harris Hill United Methodist Church
LOCATION:Harris Hill United Methodist Church\, Buffalo (Williamsville)\, NY
END:VEVENT
END:VCALENDAR
