BEGIN:VCALENDAR
VERSION:2.0
PRODID:-//AudioTheme 2.3.8
BEGIN:VEVENT
UID:urn:uuid:d8fd5746-97c5-4b91-8b96-39d3e262adf6
URL:https://mitchmcvicker.com/concerts/gig-2103/
DTSTART;VALUE=DATE:20091119
SUMMARY:Art Craft Theatre
LOCATION:Art Craft Theatre\, Indianapolis (Franklin)\, IN
END:VEVENT
END:VCALENDAR
