BEGIN:VCALENDAR
VERSION:2.0
PRODID:-//AudioTheme 2.3.8
BEGIN:VEVENT
UID:urn:uuid:dd8f05a8-8383-4891-a892-d2f3e3ac9b36
URL:https://mitchmcvicker.com/concerts/gig-2101/
DTSTART;VALUE=DATE:20091118
SUMMARY:Bethlehem Lutheran Church
LOCATION:Bethlehem Lutheran Church\, 2245 Hayden Ave\, Altoona\, WI
END:VEVENT
END:VCALENDAR
