BEGIN:VCALENDAR
VERSION:2.0
PRODID:-//AudioTheme 2.3.8
BEGIN:VEVENT
UID:urn:uuid:12ff0cfd-3b01-481b-b9bd-9303123b92c1
URL:https://mitchmcvicker.com/concerts/gig-2099/
DTSTART;VALUE=DATE:20091109
SUMMARY:Toccoa Falls College Chapel
LOCATION:Toccoa Falls College Chapel\, Toccoa Falls\, GA
END:VEVENT
END:VCALENDAR
