BEGIN:VCALENDAR
VERSION:2.0
PRODID:-//AudioTheme 2.3.8
BEGIN:VEVENT
UID:urn:uuid:51e3aa67-7c46-4ccf-894f-def50db1a4d2
URL:https://mitchmcvicker.com/concerts/gig-2097/
DTSTART;VALUE=DATE:20091108
SUMMARY:Christ Presbyterian Church
LOCATION:Christ Presbyterian Church\, Clarkesville\, GA
END:VEVENT
END:VCALENDAR
