BEGIN:VCALENDAR
VERSION:2.0
PRODID:-//AudioTheme 2.3.8
BEGIN:VEVENT
UID:urn:uuid:8f086fe8-472e-422d-a396-2c58dd85c08b
URL:https://mitchmcvicker.com/concerts/gig-2095/
DTSTART;VALUE=DATE:20091106
SUMMARY:Masonboro Baptist Church
LOCATION:Masonboro Baptist Church\, Wilmington\, NC
END:VEVENT
END:VCALENDAR
