BEGIN:VCALENDAR
VERSION:2.0
PRODID:-//AudioTheme 2.3.8
BEGIN:VEVENT
UID:urn:uuid:ef0effa6-eeab-4da6-8150-bf51caaf126d
URL:https://mitchmcvicker.com/concerts/gig-2093/
DTSTART;VALUE=DATE:20091025
SUMMARY:Harbor United Methodist Church
LOCATION:Harbor United Methodist Church\, Boston (Scituate)\, MA
END:VEVENT
END:VCALENDAR
