BEGIN:VCALENDAR
VERSION:2.0
PRODID:-//AudioTheme 2.3.8
BEGIN:VEVENT
UID:urn:uuid:d0411b3b-c454-494f-be4f-61240c976e57
URL:https://mitchmcvicker.com/concerts/gig-2091/
DTSTART;VALUE=DATE:20091025
SUMMARY:Calvary Chapel
LOCATION:Calvary Chapel\, Uncasville\, CT
END:VEVENT
END:VCALENDAR
