BEGIN:VCALENDAR
VERSION:2.0
PRODID:-//AudioTheme 2.3.8
BEGIN:VEVENT
UID:urn:uuid:f50188b5-76c9-4ad4-9ade-01de92be8e0e
URL:https://mitchmcvicker.com/concerts/gig-2090/
DTSTART;VALUE=DATE:20091024
SUMMARY:Samantha's Lil Bit of Heaven
LOCATION:Samantha's Lil Bit of Heaven\, 287 Larkfield Rd\, East Northport\, NY\, 11731
END:VEVENT
END:VCALENDAR
