BEGIN:VCALENDAR
VERSION:2.0
PRODID:-//AudioTheme 2.3.8
BEGIN:VEVENT
UID:urn:uuid:93a48c79-e659-41b0-b7fb-1b11471f005a
URL:https://mitchmcvicker.com/concerts/gig-2089/
DTSTART;VALUE=DATE:20091023
SUMMARY:Trinity United Methodist Church
LOCATION:Trinity United Methodist Church\, Newburgh\, New York
END:VEVENT
END:VCALENDAR
