BEGIN:VCALENDAR
VERSION:2.0
PRODID:-//AudioTheme 2.3.8
BEGIN:VEVENT
UID:urn:uuid:77c42994-b1b2-4db0-92dd-ee43d4b28071
URL:https://mitchmcvicker.com/concerts/gig-2087/
DTSTART;VALUE=DATE:20091022
SUMMARY:Penn Township Building
LOCATION:Penn Township Building\, Harrisburg(Duncannon)\, PA
END:VEVENT
END:VCALENDAR
