BEGIN:VCALENDAR
VERSION:2.0
PRODID:-//AudioTheme 2.3.8
BEGIN:VEVENT
UID:urn:uuid:ffb7ab17-37a8-4569-9784-49577bc547a2
URL:https://mitchmcvicker.com/concerts/gig-2084/
DTSTART;VALUE=DATE:20091017
SUMMARY:Capital City Christian Church
LOCATION:Capital City Christian Church\, Jefferson City\, MO
END:VEVENT
END:VCALENDAR
