BEGIN:VCALENDAR
VERSION:2.0
PRODID:-//AudioTheme 2.3.8
BEGIN:VEVENT
UID:urn:uuid:8ca09900-b2ae-46dd-9efc-c256e43e0f1a
URL:https://mitchmcvicker.com/concerts/gig-2082/
DTSTART;VALUE=DATE:20091016
SUMMARY:Vineyard Christian Fellowship
LOCATION:Vineyard Christian Fellowship\, Wichita\, KS
END:VEVENT
END:VCALENDAR
