BEGIN:VCALENDAR
VERSION:2.0
PRODID:-//AudioTheme 2.3.8
BEGIN:VEVENT
UID:urn:uuid:39758377-82f0-4c14-abc4-c631d68ea972
URL:https://mitchmcvicker.com/concerts/gig-2081/
DTSTART;VALUE=DATE:20091015
SUMMARY:Chapel Hill United Methodist Church
LOCATION:Chapel Hill United Methodist Church\, Oklahoma City\, OK
END:VEVENT
END:VCALENDAR
