BEGIN:VCALENDAR
VERSION:2.0
PRODID:-//AudioTheme 2.3.8
BEGIN:VEVENT
UID:urn:uuid:454c3269-15b2-4f3f-a2ba-78d230aa6cfe
URL:https://mitchmcvicker.com/concerts/gig-2079/
DTSTART;VALUE=DATE:20091011
SUMMARY:Caprock Springs Fellowship
LOCATION:Caprock Springs Fellowship\, 315 N Ave H\, Post\, TX
END:VEVENT
END:VCALENDAR
