BEGIN:VCALENDAR
VERSION:2.0
PRODID:-//AudioTheme 2.3.8
BEGIN:VEVENT
UID:urn:uuid:ea4872f8-d3a0-4413-ac29-76381057072f
URL:https://mitchmcvicker.com/concerts/gig-2077/
DTSTART;VALUE=DATE:20091010
SUMMARY:Gateway Community Church at Rita Smith Elementary School
LOCATION:Gateway Community Church at Rita Smith Elementary School\, Dallas(Wylie)\, TX
END:VEVENT
END:VCALENDAR
