BEGIN:VCALENDAR
VERSION:2.0
PRODID:-//AudioTheme 2.3.8
BEGIN:VEVENT
UID:urn:uuid:73c800bd-1be7-493b-98a4-044bc6e6a40d
URL:https://mitchmcvicker.com/concerts/gig-2074/
DTSTART;VALUE=DATE:20091009
SUMMARY:Bridgepoint Bible Church Single Venture Coffeehouse
LOCATION:Bridgepoint Bible Church Single Venture Coffeehouse\, Houston\, TX
END:VEVENT
END:VCALENDAR
