BEGIN:VCALENDAR
VERSION:2.0
PRODID:-//AudioTheme 2.3.8
BEGIN:VEVENT
UID:urn:uuid:3f7f4c0b-0e8d-4549-9b09-2f1a604aaff0
URL:https://mitchmcvicker.com/concerts/gig-2073/
DTSTART;VALUE=DATE:20091008
SUMMARY:Seekers Church
LOCATION:Seekers Church\, Norman\, OK
END:VEVENT
END:VCALENDAR
