BEGIN:VCALENDAR
VERSION:2.0
PRODID:-//AudioTheme 2.3.8
BEGIN:VEVENT
UID:urn:uuid:fdf8723c-a90d-42af-9976-1f3a5f636482
URL:https://mitchmcvicker.com/concerts/gig-2072/
DTSTART;VALUE=DATE:20091005
SUMMARY:Topeka  Free Methodist Church
LOCATION:Topeka  Free Methodist Church\, 3450 SE Indiana Ave\, Topeka\, KS
END:VEVENT
END:VCALENDAR
