BEGIN:VCALENDAR
VERSION:2.0
PRODID:-//AudioTheme 2.3.8
BEGIN:VEVENT
UID:urn:uuid:a3a01198-0864-4347-9cec-a18a98d076ce
URL:https://mitchmcvicker.com/concerts/gig-2071/
DTSTART;VALUE=DATE:20091004
SUMMARY:Lebo United Methodist Church
LOCATION:Lebo United Methodist Church\, Lebo\, KS
END:VEVENT
END:VCALENDAR
