BEGIN:VCALENDAR
VERSION:2.0
PRODID:-//AudioTheme 2.3.8
BEGIN:VEVENT
UID:urn:uuid:86301bc7-c711-45a3-a80e-b0dd38a90b07
URL:https://mitchmcvicker.com/concerts/gig-2070/
DTSTART;VALUE=DATE:20091003
SUMMARY:Grace Reformed Church
LOCATION:Grace Reformed Church\, 520 Maxwell St\, Waterloo\, IA\, USA
END:VEVENT
END:VCALENDAR
