BEGIN:VCALENDAR
VERSION:2.0
PRODID:-//AudioTheme 2.3.8
BEGIN:VEVENT
UID:urn:uuid:a19b259b-4285-440e-92e2-5d8bf72f1778
URL:https://mitchmcvicker.com/concerts/gig-2069/
DTSTART;VALUE=DATE:20091002
SUMMARY:Westchester United Methodist Church
LOCATION:Westchester United Methodist Church\, Portland\, IN
END:VEVENT
END:VCALENDAR
