BEGIN:VCALENDAR
VERSION:2.0
PRODID:-//AudioTheme 2.3.8
BEGIN:VEVENT
UID:urn:uuid:16b403a6-caae-47b8-a1f3-073ecf10a3e9
URL:https://mitchmcvicker.com/concerts/gig-2067/
DTSTART;VALUE=DATE:20091001
SUMMARY:North Liberty Church of Christ
LOCATION:North Liberty Church of Christ\, South Bend (North Liberty)\, IN
END:VEVENT
END:VCALENDAR
