BEGIN:VCALENDAR
VERSION:2.0
PRODID:-//AudioTheme 2.3.8
BEGIN:VEVENT
UID:urn:uuid:c8019297-8593-4b64-bd1a-c4dc759af40e
URL:https://mitchmcvicker.com/concerts/gig-2066/
DTSTART;VALUE=DATE:20090927
SUMMARY:Upper Room Theater
LOCATION:Upper Room Theater\, Holland\, MI
END:VEVENT
END:VCALENDAR
