BEGIN:VCALENDAR
VERSION:2.0
PRODID:-//AudioTheme 2.3.8
BEGIN:VEVENT
UID:urn:uuid:9176f714-d937-47b1-abe8-f7a11b6d4cd9
URL:https://mitchmcvicker.com/concerts/gig-2064/
DTSTART;VALUE=DATE:20090926
SUMMARY:Asbury United Methodist Church
LOCATION:Asbury United Methodist Church\, Madison\, WI
END:VEVENT
END:VCALENDAR
