BEGIN:VCALENDAR
VERSION:2.0
PRODID:-//AudioTheme 2.3.8
BEGIN:VEVENT
UID:urn:uuid:df8e2588-fe32-4e0c-91a6-f27f9cff8aba
URL:https://mitchmcvicker.com/concerts/gig-2063/
DTSTART;VALUE=DATE:20090925
SUMMARY:Cup O'Joy Coffeehouse
LOCATION:Cup O'Joy Coffeehouse\, Green Bay\, WI
END:VEVENT
END:VCALENDAR
