BEGIN:VCALENDAR
VERSION:2.0
PRODID:-//AudioTheme 2.3.8
BEGIN:VEVENT
UID:urn:uuid:9cae151f-9d51-4426-b037-dc52199407b4
URL:https://mitchmcvicker.com/concerts/gig-2062/
DTSTART;VALUE=DATE:20090924
SUMMARY:Trinity Lutheran Church
LOCATION:Trinity Lutheran Church\, 1410 Rogers St\, Stevens Point\, WI\, USA\, 54481
END:VEVENT
END:VCALENDAR
