BEGIN:VCALENDAR
VERSION:2.0
PRODID:-//AudioTheme 2.3.8
BEGIN:VEVENT
UID:urn:uuid:42494fa1-9c3b-419e-88fa-3a15bcf8b0cd
URL:https://mitchmcvicker.com/concerts/gig-2061/
DTSTART;VALUE=DATE:20090920
SUMMARY:South Metro Vineyard Church
LOCATION:South Metro Vineyard Church\, 13798 Parkwood Dr\, Burnsville\, MN\, USA\, 55337
END:VEVENT
END:VCALENDAR
