BEGIN:VCALENDAR
VERSION:2.0
PRODID:-//AudioTheme 2.3.8
BEGIN:VEVENT
UID:urn:uuid:6cb138ce-0f63-45cf-92e9-1164d8e5baa9
URL:https://mitchmcvicker.com/concerts/gig-2059/
DTSTART;VALUE=DATE:20090919
SUMMARY:Living Hope Evangelical Free Church
LOCATION:Living Hope Evangelical Free Church\, Neillsville\, WI
END:VEVENT
END:VCALENDAR
