BEGIN:VCALENDAR
VERSION:2.0
PRODID:-//AudioTheme 2.3.8
BEGIN:VEVENT
UID:urn:uuid:59b84350-e56a-4787-a90d-903d03f09cf9
URL:https://mitchmcvicker.com/concerts/gig-2057/
DTSTART;VALUE=DATE:20090918
SUMMARY:St. Paul Catholic Church
LOCATION:St. Paul Catholic Church\, Valparaiso\, IN
END:VEVENT
END:VCALENDAR
